BEGIN:VCALENDAR
VERSION:2.0
PRODID:-//RTS Racing Products - ECPv6.15.20//NONSGML v1.0//EN
CALSCALE:GREGORIAN
METHOD:PUBLISH
X-WR-CALNAME:RTS Racing Products
X-ORIGINAL-URL:https://rtsracing.com
X-WR-CALDESC:Events for RTS Racing Products
REFRESH-INTERVAL;VALUE=DURATION:PT1H
X-Robots-Tag:noindex
X-PUBLISHED-TTL:PT1H
BEGIN:VTIMEZONE
TZID:Europe/London
BEGIN:DAYLIGHT
TZOFFSETFROM:+0000
TZOFFSETTO:+0100
TZNAME:BST
DTSTART:20230326T010000
END:DAYLIGHT
BEGIN:STANDARD
TZOFFSETFROM:+0100
TZOFFSETTO:+0000
TZNAME:GMT
DTSTART:20231029T010000
END:STANDARD
BEGIN:DAYLIGHT
TZOFFSETFROM:+0000
TZOFFSETTO:+0100
TZNAME:BST
DTSTART:20240331T010000
END:DAYLIGHT
BEGIN:STANDARD
TZOFFSETFROM:+0100
TZOFFSETTO:+0000
TZNAME:GMT
DTSTART:20241027T010000
END:STANDARD
BEGIN:DAYLIGHT
TZOFFSETFROM:+0000
TZOFFSETTO:+0100
TZNAME:BST
DTSTART:20250330T010000
END:DAYLIGHT
BEGIN:STANDARD
TZOFFSETFROM:+0100
TZOFFSETTO:+0000
TZNAME:GMT
DTSTART:20251026T010000
END:STANDARD
END:VTIMEZONE
BEGIN:VEVENT
DTSTART;VALUE=DATE:20240929
DTEND;VALUE=DATE:20240930
DTSTAMP:20260421T151002
CREATED:20240825T190713Z
LAST-MODIFIED:20240825T204822Z
UID:1064-1727568000-1727654399@rtsracing.com
SUMMARY:ACU British Grasstrack Championships
DESCRIPTION:Frittenden and District MCC Ltd proudly presents the 2024 ACU British Grasstrack Championships on Sunday 29th September 2024 at our usual venue of Sandhurst Bridge Farm\, Frittenden\, Kent.
URL:https://rtsracing.com/event/acu-british-grasstrack-championships/
LOCATION:Sandhurst Bridge Farm\, Frittenden\, Kent\, TN17 2ED\, United Kingdom
CATEGORIES:Grasstrack Racing
END:VEVENT
BEGIN:VEVENT
DTSTART;VALUE=DATE:20240921
DTEND;VALUE=DATE:20240923
DTSTAMP:20260421T151002
CREATED:20240825T155305Z
LAST-MODIFIED:20240825T204742Z
UID:1040-1726876800-1727049599@rtsracing.com
SUMMARY:Herefordshire Grand Prix Grasstrack
DESCRIPTION:Ledbury MCC proudly presents the Herefordshire Grand Prix Grasstrack Meeting on Sunday 22nd September 2024 at there ever popular Pencombe Bowl venue.
URL:https://rtsracing.com/event/herefordshire-grand-prix-grasstrack/
LOCATION:Sparrington Farm\, Pencombe\, Hereford\, Herefordshire\, HR7 4SL\, United Kingdom
CATEGORIES:Grasstrack Racing
END:VEVENT
BEGIN:VEVENT
DTSTART;VALUE=DATE:20240908
DTEND;VALUE=DATE:20240909
DTSTAMP:20260421T151002
CREATED:20240825T164113Z
LAST-MODIFIED:20240825T204839Z
UID:1049-1725753600-1725839999@rtsracing.com
SUMMARY:ACU British Upright Championship
DESCRIPTION:Cheshire Grasstrack Club presents The ACU British Upright Championship and Supporting Classes on the 8th September 2024.
URL:https://rtsracing.com/event/acu-british-upright-championship/
LOCATION:Woodhouse Lane\, Gawsworth\, Macclesfield\, Cheshire\, SK11 9QY\, United Kingdom
CATEGORIES:Grasstrack Racing
END:VEVENT
END:VCALENDAR